Package: annotationTools Version: 1.83.0 Command: /home/biocbuild/bbs-3.22-bioc/R/bin/R CMD INSTALL annotationTools StartedAt: 2025-10-08 15:23:32 -0400 (Wed, 08 Oct 2025) EndedAt: 2025-10-08 15:23:35 -0400 (Wed, 08 Oct 2025) EllapsedTime: 2.5 seconds RetCode: 0 Status: OK