Package: annotatr Version: 1.35.2 Command: /Library/Frameworks/R.framework/Resources/bin/R CMD build --keep-empty-dirs --no-resave-data annotatr StartedAt: 2025-10-27 15:38:00 -0400 (Mon, 27 Oct 2025) EndedAt: 2025-10-27 15:39:09 -0400 (Mon, 27 Oct 2025) EllapsedTime: 68.8 seconds RetCode: 0 Status: OK PackageFile: annotatr_1.35.2.tar.gz PackageFileSize: 2.461 MiB