Package: annotatr Version: 1.37.0 Command: /Library/Frameworks/R.framework/Resources/bin/R CMD build --keep-empty-dirs --no-resave-data annotatr StartedAt: 2025-11-21 16:04:43 -0500 (Fri, 21 Nov 2025) EndedAt: 2025-11-21 16:07:56 -0500 (Fri, 21 Nov 2025) EllapsedTime: 193.4 seconds RetCode: 0 Status: OK PackageFile: annotatr_1.37.0.tar.gz PackageFileSize: 2.46 MiB