Package: arrayMvout Version: 1.69.0 Command: /home/biocbuild/bbs-3.23-bioc/R/bin/R CMD INSTALL arrayMvout StartedAt: 2025-11-14 16:01:59 -0500 (Fri, 14 Nov 2025) EndedAt: 2025-11-14 16:02:44 -0500 (Fri, 14 Nov 2025) EllapsedTime: 45.2 seconds RetCode: 0 Status: OK