Package: arrayMvout Version: 1.67.0 Command: /home/biocbuild/bbs-3.22-bioc/R/bin/R CMD build --keep-empty-dirs --no-resave-data --md5 arrayMvout StartedAt: 2025-07-16 16:21:36 -0400 (Wed, 16 Jul 2025) EndedAt: 2025-07-16 16:22:45 -0400 (Wed, 16 Jul 2025) EllapsedTime: 69.1 seconds RetCode: 0 Status: OK PackageFile: arrayMvout_1.67.0.tar.gz PackageFileSize: 693.6 KiB