Package: arrayMvout Version: 1.67.0 Command: /home/biocbuild/bbs-3.22-bioc/R/bin/R CMD INSTALL arrayMvout StartedAt: 2025-07-15 15:58:06 -0400 (Tue, 15 Jul 2025) EndedAt: 2025-07-15 15:58:51 -0400 (Tue, 15 Jul 2025) EllapsedTime: 45.4 seconds RetCode: 0 Status: OK