Package: arrayQuality Version: 1.89.0 Maintainer: Agnes Paquet MaintainerEmail: paquetagnes at yahoo.com git_url: https://git.bioconductor.org/packages/arrayQuality git_branch: devel git_last_commit: 354cf88 git_last_commit_date: 2025-10-29 09:54:41 -0400 (Wed, 29 Oct 2025)