Package: arrayQuality Version: 1.87.0 Command: /Library/Frameworks/R.framework/Resources/bin/R CMD build --keep-empty-dirs --no-resave-data arrayQuality StartedAt: 2025-10-02 15:38:13 -0400 (Thu, 02 Oct 2025) EndedAt: 2025-10-02 15:38:18 -0400 (Thu, 02 Oct 2025) EllapsedTime: 5.1 seconds RetCode: 0 Status: OK PackageFile: arrayQuality_1.87.0.tar.gz PackageFileSize: 12.82 MiB