Package: arrayQuality Version: 1.87.0 Command: /Library/Frameworks/R.framework/Resources/bin/R CMD INSTALL arrayQuality StartedAt: 2025-10-02 15:02:57 -0400 (Thu, 02 Oct 2025) EndedAt: 2025-10-02 15:03:01 -0400 (Thu, 02 Oct 2025) EllapsedTime: 4.5 seconds RetCode: 0 Status: OK