Package: arrayQuality Version: 1.87.0 Command: /home/biocbuild/bbs-3.22-bioc/R/bin/R CMD build --keep-empty-dirs --no-resave-data --md5 arrayQuality StartedAt: 2025-07-14 16:11:46 -0400 (Mon, 14 Jul 2025) EndedAt: 2025-07-14 16:11:55 -0400 (Mon, 14 Jul 2025) EllapsedTime: 9.0 seconds RetCode: 0 Status: OK PackageFile: arrayQuality_1.87.0.tar.gz PackageFileSize: 12.82 MiB