Package: arrayQuality Version: 1.87.0 Command: /home/biocbuild/bbs-3.22-bioc/R/bin/R CMD INSTALL arrayQuality StartedAt: 2025-07-14 15:04:18 -0400 (Mon, 14 Jul 2025) EndedAt: 2025-07-14 15:04:38 -0400 (Mon, 14 Jul 2025) EllapsedTime: 19.8 seconds RetCode: 0 Status: OK