Package: arrayQualityMetrics Version: 3.67.0 Command: /home/biocbuild/bbs-3.23-bioc/R/bin/R CMD build --keep-empty-dirs --no-resave-data arrayQualityMetrics StartedAt: 2025-11-05 16:19:19 -0500 (Wed, 05 Nov 2025) EndedAt: 2025-11-05 16:27:46 -0500 (Wed, 05 Nov 2025) EllapsedTime: 507.4 seconds RetCode: 0 Status: OK PackageFile: arrayQualityMetrics_3.67.0.tar.gz PackageFileSize: 596.8 KiB