Package: basilisk.utils Version: 1.23.0 Maintainer: Aaron Lun MaintainerEmail: infinite.monkeys.with.keyboards at gmail.com git_url: https://git.bioconductor.org/packages/basilisk.utils git_branch: devel git_last_commit: 2b3958b git_last_commit_date: 2025-10-29 10:56:58 -0400 (Wed, 29 Oct 2025)