Package: basilisk.utils Version: 1.21.2 Command: /Library/Frameworks/R.framework/Resources/bin/R CMD INSTALL basilisk.utils StartedAt: 2025-10-24 15:14:28 -0400 (Fri, 24 Oct 2025) EndedAt: 2025-10-24 15:15:05 -0400 (Fri, 24 Oct 2025) EllapsedTime: 37.3 seconds RetCode: 0 Status: OK