Package: basilisk.utils Version: 1.23.1 Command: /home/biocbuild/bbs-3.23-bioc/R/bin/R CMD INSTALL basilisk.utils StartedAt: 2025-11-19 15:07:54 -0500 (Wed, 19 Nov 2025) EndedAt: 2025-11-19 15:08:04 -0500 (Wed, 19 Nov 2025) EllapsedTime: 9.9 seconds RetCode: 0 Status: OK