Package: basilisk.utils Version: 1.21.2 Command: /home/biocbuild/bbs-3.22-bioc/R/bin/R CMD INSTALL basilisk.utils StartedAt: 2025-07-16 15:04:20 -0400 (Wed, 16 Jul 2025) EndedAt: 2025-07-16 15:04:29 -0400 (Wed, 16 Jul 2025) EllapsedTime: 9.1 seconds RetCode: 0 Status: OK