Package: basilisk Version: 1.23.0 Command: /Library/Frameworks/R.framework/Resources/bin/R CMD build --keep-empty-dirs --no-resave-data basilisk StartedAt: 2025-11-19 16:10:25 -0500 (Wed, 19 Nov 2025) EndedAt: 2025-11-19 16:14:30 -0500 (Wed, 19 Nov 2025) EllapsedTime: 244.5 seconds RetCode: 0 Status: OK PackageFile: basilisk_1.23.0.tar.gz PackageFileSize: 260.9 KiB