Back to Build/check report for BioC 3.23:   simplified   long
A[B]CDEFGHIJKLMNOPQRSTUVWXYZ

This page was generated on 2025-10-31 08:34 -0400 (Fri, 31 Oct 2025).

HostnameOSArch (*)R versionInstalled pkgs
nebbiolo1Linux (Ubuntu 24.04.3 LTS)x86_64R Under development (unstable) (2025-10-20 r88955) -- "Unsuffered Consequences" 4428
Click on any hostname to see more info about the system (e.g. compilers)      (*) as reported by 'uname -p', except on Windows and Mac OS X

All results for package biomaRt


To the developers/maintainers of the biomaRt package:
- Allow up to 24 hours (and sometimes 48 hours) for your latest push to git@git.bioconductor.org:packages/biomaRt.git to reflect on this report. See Troubleshooting Build Report for more information.
- Use the following Renviron settings to reproduce errors and warnings.
- If 'R CMD check' started to fail recently on the Linux builder(s) over a missing dependency, add the missing dependency to 'Suggests:' in your DESCRIPTION file. See Renviron.bioc for more information.

raw results

Package 211/2321HostnameOS / ArchINSTALLBUILDCHECKBUILD BIN
biomaRt 2.67.0  (landing page)
Hugo Gruson
Snapshot Date: 2025-10-30 13:40 -0400 (Thu, 30 Oct 2025)
git_url: https://git.bioconductor.org/packages/biomaRt
git_branch: devel
git_last_commit: 1c6179c
git_last_commit_date: 2025-10-29 09:56:01 -0400 (Wed, 29 Oct 2025)
nebbiolo1Linux (Ubuntu 24.04.3 LTS) / x86_64  OK    OK    OK  NO, package depends on 'AnnotationDbi' which is not available



Results for Bioconductor software packages that depend directly on package biomaRt

QUICK STATSOS / ArchINSTALLBUILDCHECKBUILD BIN
nebbiolo1Linux (Ubuntu 24.04.3 LTS) / x86_64
01862
03248
08733
Package 1/80HostnameOS / ArchINSTALLBUILDCHECKBUILD BIN
BadRegionFinder 1.39.0  (landing page)
Sarah Sandmann
git_last_commit: d483500
git_last_commit_date: 2025-10-29 10:31:21 -0400
nebbiolo1Linux (Ubuntu 24.04.3 LTS) / x86_64  OK    OK    ERROR  
Package 2/80HostnameOS / ArchINSTALLBUILDCHECKBUILD BIN
branchpointer 1.37.0  (landing page)
Beth Signal
git_last_commit: a9cef4c
git_last_commit_date: 2025-10-29 10:37:20 -0400
nebbiolo1Linux (Ubuntu 24.04.3 LTS) / x86_64  ERROR    ERROR  skipped
Package 3/80HostnameOS / ArchINSTALLBUILDCHECKBUILD BIN
BUSpaRse 1.25.0  (landing page)
Lambda Moses
git_last_commit: 031e018
git_last_commit_date: 2025-10-29 10:53:52 -0400
nebbiolo1Linux (Ubuntu 24.04.3 LTS) / x86_64  OK    ERROR  skipped
Package 4/80HostnameOS / ArchINSTALLBUILDCHECKBUILD BIN
ChIPpeakAnno 3.45.0  (landing page)
Jianhong Ou
git_last_commit: 2e00e23
git_last_commit_date: 2025-10-29 10:03:18 -0400
nebbiolo1Linux (Ubuntu 24.04.3 LTS) / x86_64  ERROR    ERROR  skipped
Package 5/80HostnameOS / ArchINSTALLBUILDCHECKBUILD BIN
chromPlot 1.39.0  (landing page)
Karen Y. Orostica
git_last_commit: 022a816
git_last_commit_date: 2025-10-29 10:30:09 -0400
nebbiolo1Linux (Ubuntu 24.04.3 LTS) / x86_64  OK    OK    OK  NO, package depends on 'biomaRt' which is not available
Package 6/80HostnameOS / ArchINSTALLBUILDCHECKBUILD BIN
CHRONOS 1.39.0  (landing page)
Panos Balomenos
git_last_commit: 5dec64b
git_last_commit_date: 2025-10-29 10:32:09 -0400
nebbiolo1Linux (Ubuntu 24.04.3 LTS) / x86_64  OK    OK    OK  NO, package depends on 'biomaRt' which is not available
Package 7/80HostnameOS / ArchINSTALLBUILDCHECKBUILD BIN
CoSIA 1.11.0  (landing page)
Amanda D. Clark
git_last_commit: 2cfc094
git_last_commit_date: 2025-10-29 11:32:24 -0400
nebbiolo1Linux (Ubuntu 24.04.3 LTS) / x86_64  ERROR    ERROR  skipped
Package 8/80HostnameOS / ArchINSTALLBUILDCHECKBUILD BIN
customProDB 1.51.0  (landing page)
Xiaojing Wang
git_last_commit: 8317345
git_last_commit_date: 2025-10-29 10:15:09 -0400
nebbiolo1Linux (Ubuntu 24.04.3 LTS) / x86_64  OK    ERROR  skipped
Package 9/80HostnameOS / ArchINSTALLBUILDCHECKBUILD BIN
dagLogo 1.49.0  (landing page)
Jianhong Ou
git_last_commit: 73a5187
git_last_commit_date: 2025-10-29 10:16:42 -0400
nebbiolo1Linux (Ubuntu 24.04.3 LTS) / x86_64  OK    OK    OK  NO, package depends on 'Biostrings' which is not available
Package 10/80HostnameOS / ArchINSTALLBUILDCHECKBUILD BIN
DEXSeq 1.57.0  (landing page)
Alejandro Reyes
git_last_commit: db6ed7c
git_last_commit_date: 2025-10-29 10:07:54 -0400
nebbiolo1Linux (Ubuntu 24.04.3 LTS) / x86_64  OK    OK    OK  NO, package depends on 'SummarizedExperiment' which is not available
Package 11/80HostnameOS / ArchINSTALLBUILDCHECKBUILD BIN
DMRcate 3.7.0  (landing page)
Tim Peters
git_last_commit: c4e3304
git_last_commit_date: 2025-10-29 10:18:14 -0400
nebbiolo1Linux (Ubuntu 24.04.3 LTS) / x86_64  ERROR    ERROR  skipped
Package 12/80HostnameOS / ArchINSTALLBUILDCHECKBUILD BIN
DominoEffect 1.31.0  (landing page)
Marija Buljan , Peter Blattmann
git_last_commit: 2cae082
git_last_commit_date: 2025-10-29 10:43:24 -0400
nebbiolo1Linux (Ubuntu 24.04.3 LTS) / x86_64  OK    OK    OK  NO, package depends on 'biomaRt' which is not available
Package 13/80HostnameOS / ArchINSTALLBUILDCHECKBUILD BIN
dominoSignal 1.5.0  (landing page)
Jacob T Mitchell
git_last_commit: a76eebf
git_last_commit_date: 2025-10-29 11:31:35 -0400
nebbiolo1Linux (Ubuntu 24.04.3 LTS) / x86_64  OK    OK    OK  NO, package depends on 'biomaRt' which is not available
Package 14/80HostnameOS / ArchINSTALLBUILDCHECKBUILD BIN
drugTargetInteractions 1.19.0  (landing page)
Thomas Girke
git_last_commit: a35b336
git_last_commit_date: 2025-10-29 11:07:31 -0400
nebbiolo1Linux (Ubuntu 24.04.3 LTS) / x86_64  OK    ERROR  skipped
Package 15/80HostnameOS / ArchINSTALLBUILDCHECKBUILD BIN
DrugVsDisease 2.53.0  (landing page)
j. Saez-Rodriguez
git_last_commit: 6483099
git_last_commit_date: 2025-10-29 10:13:26 -0400
nebbiolo1Linux (Ubuntu 24.04.3 LTS) / x86_64  ERROR    ERROR  skipped
Package 16/80HostnameOS / ArchINSTALLBUILDCHECKBUILD BIN
easyRNASeq 2.47.0  (landing page)
Nicolas Delhomme
git_last_commit: 1cb9a73
git_last_commit_date: 2025-10-29 10:10:00 -0400
nebbiolo1Linux (Ubuntu 24.04.3 LTS) / x86_64  OK    OK    ERROR  
Package 17/80HostnameOS / ArchINSTALLBUILDCHECKBUILD BIN
EDASeq 2.45.0  (landing page)
Davide Risso
git_last_commit: 1f147bc
git_last_commit_date: 2025-10-29 10:08:53 -0400
nebbiolo1Linux (Ubuntu 24.04.3 LTS) / x86_64  OK    OK    OK  NO, package depends on 'ShortRead' which is not available
Package 18/80HostnameOS / ArchINSTALLBUILDCHECKBUILD BIN
ELMER 2.35.0  (landing page)
Tiago Chedraoui Silva
git_last_commit: 642227c
git_last_commit_date: 2025-10-29 10:26:17 -0400
nebbiolo1Linux (Ubuntu 24.04.3 LTS) / x86_64  OK    ERROR  skipped
Package 19/80HostnameOS / ArchINSTALLBUILDCHECKBUILD BIN
EpiMix 1.13.0  (landing page)
Yuanning Zheng
git_last_commit: 5408436
git_last_commit_date: 2025-10-29 11:17:43 -0400
nebbiolo1Linux (Ubuntu 24.04.3 LTS) / x86_64  OK    OK    OK  NO, package depends on 'AnnotationHub' which is not available
Package 20/80HostnameOS / ArchINSTALLBUILDCHECKBUILD BIN
epimutacions 1.15.0  (landing page)
Dolors Pelegri-Siso
git_last_commit: 9c5c202
git_last_commit_date: 2025-10-29 11:16:20 -0400
nebbiolo1Linux (Ubuntu 24.04.3 LTS) / x86_64  ERROR    ERROR  skipped
Package 21/80HostnameOS / ArchINSTALLBUILDCHECKBUILD BIN
FRASER 2.7.0  (landing page)
Christian Mertes
git_last_commit: ecd421c
git_last_commit_date: 2025-10-29 10:58:54 -0400
nebbiolo1Linux (Ubuntu 24.04.3 LTS) / x86_64  ERROR    ERROR  skipped
Package 22/80HostnameOS / ArchINSTALLBUILDCHECKBUILD BIN
GDCRNATools 1.31.0  (landing page)
Ruidong Li
git_last_commit: 0524945
git_last_commit_date: 2025-10-29 10:42:54 -0400
nebbiolo1Linux (Ubuntu 24.04.3 LTS) / x86_64  OK    OK    OK  NO, package depends on 'DESeq2' which is not available
Package 23/80HostnameOS / ArchINSTALLBUILDCHECKBUILD BIN
genefu 2.43.0  (landing page)
Benjamin Haibe-Kains
git_last_commit: d2e64e7
git_last_commit_date: 2025-10-29 10:07:12 -0400
nebbiolo1Linux (Ubuntu 24.04.3 LTS) / x86_64  OK    OK    WARNINGS  NO, package depends on 'biomaRt' which is not available
Package 24/80HostnameOS / ArchINSTALLBUILDCHECKBUILD BIN
GenomicOZone 1.25.0  (landing page)
Hua Zhong, Mingzhou Song
git_last_commit: 6f28f64
git_last_commit_date: 2025-10-29 10:53:39 -0400
nebbiolo1Linux (Ubuntu 24.04.3 LTS) / x86_64  ERROR    ERROR  skipped
Package 25/80HostnameOS / ArchINSTALLBUILDCHECKBUILD BIN
GenVisR 1.43.0  (landing page)
Zachary Skidmore
git_last_commit: e398c9b
git_last_commit_date: 2025-10-29 10:29:36 -0400
nebbiolo1Linux (Ubuntu 24.04.3 LTS) / x86_64  OK    OK    ERROR  
Package 26/80HostnameOS / ArchINSTALLBUILDCHECKBUILD BIN
gINTomics 1.7.0  (landing page)
Angelo Velle
git_last_commit: 4cacafe
git_last_commit_date: 2025-10-29 11:30:01 -0400
nebbiolo1Linux (Ubuntu 24.04.3 LTS) / x86_64  ERROR    ERROR  skipped
Package 27/80HostnameOS / ArchINSTALLBUILDCHECKBUILD BIN
glmSparseNet 1.29.0  (landing page)
André Veríssimo
git_last_commit: 4e68566
git_last_commit_date: 2025-10-29 10:47:42 -0400
nebbiolo1Linux (Ubuntu 24.04.3 LTS) / x86_64  OK    ERROR  skipped
Package 28/80HostnameOS / ArchINSTALLBUILDCHECKBUILD BIN
GOexpress 1.45.0  (landing page)
Kevin Rue-Albrecht
git_last_commit: f14e6df
git_last_commit_date: 2025-10-29 10:21:33 -0400
nebbiolo1Linux (Ubuntu 24.04.3 LTS) / x86_64  OK    OK    OK  NO, package depends on 'biomaRt' which is not available
Package 29/80HostnameOS / ArchINSTALLBUILDCHECKBUILD BIN
goSTAG 1.35.0  (landing page)
Brian D. Bennett
git_last_commit: 80ac782
git_last_commit_date: 2025-10-29 10:36:31 -0400
nebbiolo1Linux (Ubuntu 24.04.3 LTS) / x86_64  OK    OK    OK  NO, package depends on 'AnnotationDbi' which is not available
Package 30/80HostnameOS / ArchINSTALLBUILDCHECKBUILD BIN
GRaNIE 1.15.0  (landing page)
Christian Arnold
git_last_commit: 43246b6
git_last_commit_date: 2025-10-29 11:16:56 -0400
nebbiolo1Linux (Ubuntu 24.04.3 LTS) / x86_64  OK    OK    ERROR  
Package 31/80HostnameOS / ArchINSTALLBUILDCHECKBUILD BIN
Gviz 1.55.0  (landing page)
Robert Ivanek
git_last_commit: 6339846
git_last_commit_date: 2025-10-29 10:10:17 -0400
nebbiolo1Linux (Ubuntu 24.04.3 LTS) / x86_64  OK    ERROR  skipped
Package 32/80HostnameOS / ArchINSTALLBUILDCHECKBUILD BIN
hermes 1.15.0  (landing page)
Daniel Sabanés Bové
git_last_commit: da21eaa
git_last_commit_date: 2025-10-29 11:14:07 -0400
nebbiolo1Linux (Ubuntu 24.04.3 LTS) / x86_64  OK    OK    OK  NO, package depends on 'SummarizedExperiment' which is not available
Package 33/80HostnameOS / ArchINSTALLBUILDCHECKBUILD BIN
InterCellar 2.17.0  (landing page)
Marta Interlandi
git_last_commit: bb10717
git_last_commit_date: 2025-10-29 11:07:02 -0400
nebbiolo1Linux (Ubuntu 24.04.3 LTS) / x86_64  OK    OK    OK  NO, package depends on 'ComplexHeatmap' which is not available
Package 34/80HostnameOS / ArchINSTALLBUILDCHECKBUILD BIN
isobar 1.57.0  (landing page)
Florian P Breitwieser
git_last_commit: 0225060
git_last_commit_date: 2025-10-29 10:09:30 -0400
nebbiolo1Linux (Ubuntu 24.04.3 LTS) / x86_64  OK    OK    WARNINGS  NO, package depends on 'biomaRt' which is not available
Package 35/80HostnameOS / ArchINSTALLBUILDCHECKBUILD BIN
LACE 2.15.0  (landing page)
Davide Maspero
git_last_commit: 389a4b3
git_last_commit_date: 2025-10-29 10:59:31 -0400
nebbiolo1Linux (Ubuntu 24.04.3 LTS) / x86_64  OK    OK    OK  NO, package depends on 'SummarizedExperiment' which is not available
Package 36/80HostnameOS / ArchINSTALLBUILDCHECKBUILD BIN
mCSEA 1.31.0  (landing page)
Jordi Martorell-Marugán
git_last_commit: ee727d5
git_last_commit_date: 2025-10-29 10:42:49 -0400
nebbiolo1Linux (Ubuntu 24.04.3 LTS) / x86_64  ERROR    ERROR  skipped
Package 37/80HostnameOS / ArchINSTALLBUILDCHECKBUILD BIN
MEDIPS 1.63.0  (landing page)
Lukas Chavez
git_last_commit: b8a28dc
git_last_commit_date: 2025-10-29 10:06:09 -0400
nebbiolo1Linux (Ubuntu 24.04.3 LTS) / x86_64  OK    ERROR  skipped
Package 38/80HostnameOS / ArchINSTALLBUILDCHECKBUILD BIN
MetaboSignal 1.41.0  (landing page)
Andrea Rodriguez-Martinez
git_last_commit: cbcf183
git_last_commit_date: 2025-10-29 10:34:11 -0400
nebbiolo1Linux (Ubuntu 24.04.3 LTS) / x86_64  ERROR    ERROR  skipped
Package 39/80HostnameOS / ArchINSTALLBUILDCHECKBUILD BIN
metaseqR2 1.23.0  (landing page)
Panagiotis Moulos
git_last_commit: 25b9df1
git_last_commit_date: 2025-10-29 10:59:18 -0400
nebbiolo1Linux (Ubuntu 24.04.3 LTS) / x86_64  OK    OK    OK  NO, package depends on 'DESeq2' which is not available
Package 40/80HostnameOS / ArchINSTALLBUILDCHECKBUILD BIN
MGFR 1.37.0  (landing page)
Khadija El Amrani
git_last_commit: 01c645b
git_last_commit_date: 2025-10-29 10:33:04 -0400
nebbiolo1Linux (Ubuntu 24.04.3 LTS) / x86_64  OK    ERROR  skipped
Package 41/80HostnameOS / ArchINSTALLBUILDCHECKBUILD BIN
MineICA 1.51.0  (landing page)
Anne Biton
git_last_commit: b926f54
git_last_commit_date: 2025-10-29 10:13:40 -0400
nebbiolo1Linux (Ubuntu 24.04.3 LTS) / x86_64  ERROR    ERROR  skipped
Package 42/80HostnameOS / ArchINSTALLBUILDCHECKBUILD BIN
motifbreakR 2.25.0  (landing page)
Simon Gert Coetzee
git_last_commit: 21e6965
git_last_commit_date: 2025-10-29 10:27:43 -0400
nebbiolo1Linux (Ubuntu 24.04.3 LTS) / x86_64  OK    ERROR  skipped
Package 43/80HostnameOS / ArchINSTALLBUILDCHECKBUILD BIN
MouseFM 1.21.0  (landing page)
Matthias Munz
git_last_commit: 8f52b6a
git_last_commit_date: 2025-10-29 11:13:56 -0400
nebbiolo1Linux (Ubuntu 24.04.3 LTS) / x86_64  OK    OK    OK  NO, package depends on 'GenomicRanges' which is not available
Package 44/80HostnameOS / ArchINSTALLBUILDCHECKBUILD BIN
NetSAM 1.51.0  (landing page)
Zhiao Shi
git_last_commit: e7c982a
git_last_commit_date: 2025-10-29 10:15:12 -0400
nebbiolo1Linux (Ubuntu 24.04.3 LTS) / x86_64  OK    OK    ERROR  
Package 45/80HostnameOS / ArchINSTALLBUILDCHECKBUILD BIN
NoRCE 1.23.0  (landing page)
Gulden Olgun
git_last_commit: 1e7412c
git_last_commit_date: 2025-10-29 10:57:38 -0400
nebbiolo1Linux (Ubuntu 24.04.3 LTS) / x86_64  ERROR    ERROR  skipped
Package 46/80HostnameOS / ArchINSTALLBUILDCHECKBUILD BIN
OncoScore 1.39.0  (landing page)
Luca De Sano
git_last_commit: 42d455b
git_last_commit_date: 2025-10-29 10:30:59 -0400
nebbiolo1Linux (Ubuntu 24.04.3 LTS) / x86_64  OK    OK    OK  NO, package depends on 'biomaRt' which is not available
Package 47/80HostnameOS / ArchINSTALLBUILDCHECKBUILD BIN
oposSOM 2.29.0  (landing page)
Henry Loeffler-Wirth
git_last_commit: 5c4952e
git_last_commit_date: 2025-10-29 10:20:10 -0400
nebbiolo1Linux (Ubuntu 24.04.3 LTS) / x86_64  OK    OK    WARNINGS  NO, package depends on 'biomaRt' which is not available
Package 48/80HostnameOS / ArchINSTALLBUILDCHECKBUILD BIN
ORFik 1.31.0  (landing page)
Haakon Tjeldnes
git_last_commit: 1c0375d
git_last_commit_date: 2025-10-29 10:45:22 -0400
nebbiolo1Linux (Ubuntu 24.04.3 LTS) / x86_64  OK    ERROR  skipped
Package 49/80HostnameOS / ArchINSTALLBUILDCHECKBUILD BIN
pcaExplorer 3.5.0  (landing page)
Federico Marini
git_last_commit: 4e88ee9
git_last_commit_date: 2025-10-29 10:31:39 -0400
nebbiolo1Linux (Ubuntu 24.04.3 LTS) / x86_64  OK    OK    OK  NO, package depends on 'DESeq2' which is not available
Package 50/80HostnameOS / ArchINSTALLBUILDCHECKBUILD BIN
phenoTest 1.59.0  (landing page)
Evarist Planet
git_last_commit: 882e53c
git_last_commit_date: 2025-10-29 10:06:30 -0400
nebbiolo1Linux (Ubuntu 24.04.3 LTS) / x86_64  ERROR    ERROR  skipped
Package 51/80HostnameOS / ArchINSTALLBUILDCHECKBUILD BIN
PPInfer 1.37.0  (landing page)
Dongmin Jung
git_last_commit: 37e1583
git_last_commit_date: 2025-10-29 10:38:26 -0400
nebbiolo1Linux (Ubuntu 24.04.3 LTS) / x86_64  OK    OK    OK  NO, package depends on 'biomaRt' which is not available
Package 52/80HostnameOS / ArchINSTALLBUILDCHECKBUILD BIN
pRoloc 1.51.0  (landing page)
Lisa Breckels
git_last_commit: 26ca27b
git_last_commit_date: 2025-10-29 10:12:55 -0400
nebbiolo1Linux (Ubuntu 24.04.3 LTS) / x86_64  OK    OK    WARNINGS  NO, package depends on 'MSnbase' which is not available
Package 53/80HostnameOS / ArchINSTALLBUILDCHECKBUILD BIN
ProteoMM 1.29.0  (landing page)
Yuliya V Karpievitch
git_last_commit: 9f11f1b
git_last_commit_date: 2025-10-29 10:48:25 -0400
nebbiolo1Linux (Ubuntu 24.04.3 LTS) / x86_64  OK    OK    OK  NO, package depends on 'biomaRt' which is not available
Package 54/80HostnameOS / ArchINSTALLBUILDCHECKBUILD BIN
R453Plus1Toolbox 1.61.0  (landing page)
Hans-Ulrich Klein
git_last_commit: b396ba9
git_last_commit_date: 2025-10-29 10:06:02 -0400
nebbiolo1Linux (Ubuntu 24.04.3 LTS) / x86_64  OK    ERROR  skipped
Package 55/80HostnameOS / ArchINSTALLBUILDCHECKBUILD BIN
ramwas 1.35.0  (landing page)
Andrey A Shabalin
git_last_commit: 4c78862
git_last_commit_date: 2025-10-29 10:36:00 -0400
nebbiolo1Linux (Ubuntu 24.04.3 LTS) / x86_64  OK    ERROR  skipped
Package 56/80HostnameOS / ArchINSTALLBUILDCHECKBUILD BIN
recoup 1.39.0  (landing page)
Panagiotis Moulos
git_last_commit: 66d3f66
git_last_commit_date: 2025-10-29 10:31:02 -0400
nebbiolo1Linux (Ubuntu 24.04.3 LTS) / x86_64  OK    OK    OK  NO, package depends on 'GenomicRanges' which is not available
Package 57/80HostnameOS / ArchINSTALLBUILDCHECKBUILD BIN
ReducedExperiment 1.3.0  (landing page)
Jack Gisby
git_last_commit: 8a1ee25
git_last_commit_date: 2025-10-29 11:33:37 -0400
nebbiolo1Linux (Ubuntu 24.04.3 LTS) / x86_64  OK    OK    OK  NO, package depends on 'SummarizedExperiment' which is not available
Package 58/80HostnameOS / ArchINSTALLBUILDCHECKBUILD BIN
RepViz 1.27.0  (landing page)
Thomas Faux, Asta Laiho
git_last_commit: ca319c2
git_last_commit_date: 2025-10-29 10:51:36 -0400
nebbiolo1Linux (Ubuntu 24.04.3 LTS) / x86_64  OK    ERROR  skipped
Package 59/80HostnameOS / ArchINSTALLBUILDCHECKBUILD BIN
rgsepd 1.43.0  (landing page)
Karl Stamm
git_last_commit: c93ca40
git_last_commit_date: 2025-10-29 10:23:22 -0400
nebbiolo1Linux (Ubuntu 24.04.3 LTS) / x86_64  OK    OK    OK  NO, package depends on 'DESeq2' which is not available
Package 60/80HostnameOS / ArchINSTALLBUILDCHECKBUILD BIN
RnaSeqSampleSize 2.21.0  (landing page)
Shilin Zhao Developer
git_last_commit: d615113
git_last_commit_date: 2025-10-29 11:03:19 -0400
nebbiolo1Linux (Ubuntu 24.04.3 LTS) / x86_64  OK    OK    OK  NO, package depends on 'biomaRt' which is not available
Package 61/80HostnameOS / ArchINSTALLBUILDCHECKBUILD BIN
scafari 1.1.0  (landing page)
Sophie Wind
git_last_commit: 0bee2a7
git_last_commit_date: 2025-10-29 11:36:58 -0400
nebbiolo1Linux (Ubuntu 24.04.3 LTS) / x86_64  ERROR    ERROR  skipped
Package 62/80HostnameOS / ArchINSTALLBUILDCHECKBUILD BIN
scPipe 2.11.0  (landing page)
Shian Su
git_last_commit: fbfb464
git_last_commit_date: 2025-10-29 10:41:32 -0400
nebbiolo1Linux (Ubuntu 24.04.3 LTS) / x86_64  ERROR    ERROR  skipped
Package 63/80HostnameOS / ArchINSTALLBUILDCHECKBUILD BIN
scQTLtools 1.3.0  (landing page)
Xiaofeng Wu
git_last_commit: 2285e5a
git_last_commit_date: 2025-10-29 11:34:00 -0400
nebbiolo1Linux (Ubuntu 24.04.3 LTS) / x86_64  OK    OK    ERROR  
Package 64/80HostnameOS / ArchINSTALLBUILDCHECKBUILD BIN
seq2pathway 1.43.0  (landing page)
Arjun Kinstlick
git_last_commit: e2a86ec
git_last_commit_date: 2025-10-29 10:23:43 -0400
nebbiolo1Linux (Ubuntu 24.04.3 LTS) / x86_64  OK    OK    ERROR  
Package 65/80HostnameOS / ArchINSTALLBUILDCHECKBUILD BIN
SeqGSEA 1.51.0  (landing page)
Xi Wang
git_last_commit: d9a1c2a
git_last_commit_date: 2025-10-29 10:14:28 -0400
nebbiolo1Linux (Ubuntu 24.04.3 LTS) / x86_64  OK    OK    OK  NO, package depends on 'DESeq2' which is not available
Package 66/80HostnameOS / ArchINSTALLBUILDCHECKBUILD BIN
sitadela 1.19.0  (landing page)
Panagiotis Moulos
git_last_commit: 45b2af3
git_last_commit_date: 2025-10-29 11:07:04 -0400
nebbiolo1Linux (Ubuntu 24.04.3 LTS) / x86_64  OK    OK    OK  NO, package depends on 'biomaRt' which is not available
Package 67/80HostnameOS / ArchINSTALLBUILDCHECKBUILD BIN
SPLINTER 1.37.0  (landing page)
Diana Low
git_last_commit: 2ff2d3c
git_last_commit_date: 2025-10-29 10:34:37 -0400
nebbiolo1Linux (Ubuntu 24.04.3 LTS) / x86_64  ERROR    ERROR  skipped
Package 68/80HostnameOS / ArchINSTALLBUILDCHECKBUILD BIN
SPONGE 1.33.0  (landing page)
Markus List
git_last_commit: 6ba4e2d
git_last_commit_date: 2025-10-29 10:40:24 -0400
nebbiolo1Linux (Ubuntu 24.04.3 LTS) / x86_64  OK    OK    WARNINGS  NO, package depends on 'biomaRt' which is not available
Package 69/80HostnameOS / ArchINSTALLBUILDCHECKBUILD BIN
surfaltr 1.17.0  (landing page)
Pooja Gangras
git_last_commit: 3063fd2
git_last_commit_date: 2025-10-29 11:12:34 -0400
nebbiolo1Linux (Ubuntu 24.04.3 LTS) / x86_64  OK    OK    OK  NO, package depends on 'biomaRt' which is not available
Package 70/80HostnameOS / ArchINSTALLBUILDCHECKBUILD BIN
SurfR 1.7.0  (landing page)
Aurora Maurizio
git_last_commit: 90bbf06
git_last_commit_date: 2025-10-29 11:27:44 -0400
nebbiolo1Linux (Ubuntu 24.04.3 LTS) / x86_64  OK    OK    OK  NO, package depends on 'SPsimSeq' which is not available
Package 71/80HostnameOS / ArchINSTALLBUILDCHECKBUILD BIN
SWATH2stats 1.41.0  (landing page)
Peter Blattmann
git_last_commit: e8d705a
git_last_commit_date: 2025-10-29 10:28:13 -0400
nebbiolo1Linux (Ubuntu 24.04.3 LTS) / x86_64  OK    OK    OK  NO, package depends on 'biomaRt' which is not available
Package 72/80HostnameOS / ArchINSTALLBUILDCHECKBUILD BIN
TCGAbiolinks 2.39.0  (landing page)
Tiago Chedraoui Silva
git_last_commit: 2072af1
git_last_commit_date: 2025-10-29 10:27:16 -0400
nebbiolo1Linux (Ubuntu 24.04.3 LTS) / x86_64  OK    OK    WARNINGS  NO, package depends on 'biomaRt' which is not available
Package 73/80HostnameOS / ArchINSTALLBUILDCHECKBUILD BIN
TEKRABber 1.15.0  (landing page)
Yao-Chung Chen
git_last_commit: ffc9f33
git_last_commit_date: 2025-10-29 11:14:57 -0400
nebbiolo1Linux (Ubuntu 24.04.3 LTS) / x86_64  OK    OK    OK  NO, package depends on 'apeglm' which is not available
Package 74/80HostnameOS / ArchINSTALLBUILDCHECKBUILD BIN
terapadog 1.3.0  (landing page)
Gionmattia Carancini
git_last_commit: 48dbe0f
git_last_commit_date: 2025-10-29 11:34:51 -0400
nebbiolo1Linux (Ubuntu 24.04.3 LTS) / x86_64  OK    OK    OK  NO, package depends on 'DESeq2' which is not available
Package 75/80HostnameOS / ArchINSTALLBUILDCHECKBUILD BIN
TFEA.ChIP 1.31.0  (landing page)
Yosra Berrouayel
git_last_commit: b0fbb73
git_last_commit_date: 2025-10-29 10:42:32 -0400
nebbiolo1Linux (Ubuntu 24.04.3 LTS) / x86_64  ERROR    ERROR  skipped
Package 76/80HostnameOS / ArchINSTALLBUILDCHECKBUILD BIN
transcriptogramer 1.33.0  (landing page)
Diego Morais
git_last_commit: c57474a
git_last_commit_date: 2025-10-29 10:42:09 -0400
nebbiolo1Linux (Ubuntu 24.04.3 LTS) / x86_64  OK    OK    OK  NO, package depends on 'biomaRt' which is not available
Package 77/80HostnameOS / ArchINSTALLBUILDCHECKBUILD BIN
txdbmaker 1.7.0  (landing page)
H. Pagès
git_last_commit: 9bfc034
git_last_commit_date: 2025-10-29 14:49:40 -0400
nebbiolo1Linux (Ubuntu 24.04.3 LTS) / x86_64  OK    ERROR  skipped
Package 78/80HostnameOS / ArchINSTALLBUILDCHECKBUILD BIN
VegaMC 3.49.0  (landing page)
Sandro Morganella
git_last_commit: ad29267
git_last_commit_date: 2025-10-29 10:10:40 -0400
nebbiolo1Linux (Ubuntu 24.04.3 LTS) / x86_64  OK    OK    WARNINGS  NO, package depends on 'biomaRt' which is not available
Package 79/80HostnameOS / ArchINSTALLBUILDCHECKBUILD BIN
ViSEAGO 1.25.0  (landing page)
Aurelien Brionne
git_last_commit: 646645b
git_last_commit_date: 2025-10-29 10:53:03 -0400
nebbiolo1Linux (Ubuntu 24.04.3 LTS) / x86_64  OK    OK    ERROR  
Package 80/80HostnameOS / ArchINSTALLBUILDCHECKBUILD BIN
yarn 1.37.0  (landing page)
Joseph N Paulson
git_last_commit: 1ca2322
git_last_commit_date: 2025-10-29 10:35:35 -0400
nebbiolo1Linux (Ubuntu 24.04.3 LTS) / x86_64  OK    OK    OK  NO, package depends on 'biomaRt' which is not available