Package: branchpointer Version: 1.35.1 Command: /Library/Frameworks/R.framework/Resources/bin/R CMD build --keep-empty-dirs --no-resave-data branchpointer StartedAt: 2025-10-08 16:19:33 -0400 (Wed, 08 Oct 2025) EndedAt: 2025-10-08 16:20:55 -0400 (Wed, 08 Oct 2025) EllapsedTime: 82.2 seconds RetCode: 1 Status: ERROR PackageFile: None PackageFileSize: NA