Package: branchpointer Version: 1.35.1 Command: /Library/Frameworks/R.framework/Resources/bin/R CMD INSTALL branchpointer StartedAt: 2025-10-09 15:31:43 -0400 (Thu, 09 Oct 2025) EndedAt: 2025-10-09 15:32:54 -0400 (Thu, 09 Oct 2025) EllapsedTime: 71.0 seconds RetCode: 0 Status: OK