Package: branchpointer Version: 1.37.0 Command: /home/biocbuild/bbs-3.23-bioc/R/bin/R CMD build --keep-empty-dirs --no-resave-data branchpointer StartedAt: 2025-11-03 16:31:27 -0500 (Mon, 03 Nov 2025) EndedAt: 2025-11-03 16:32:37 -0500 (Mon, 03 Nov 2025) EllapsedTime: 70.1 seconds RetCode: 1 Status: ERROR PackageFile: None PackageFileSize: NA