Package: branchpointer Version: 1.35.0 Command: /home/biocbuild/bbs-3.22-bioc/R/bin/R CMD build --keep-empty-dirs --no-resave-data --md5 branchpointer StartedAt: 2025-07-16 16:37:05 -0400 (Wed, 16 Jul 2025) EndedAt: 2025-07-16 16:38:23 -0400 (Wed, 16 Jul 2025) EllapsedTime: 78.1 seconds RetCode: 0 Status: OK PackageFile: branchpointer_1.35.0.tar.gz PackageFileSize: 4.804 MiB