Package: branchpointer Version: 1.35.0 Command: /home/biocbuild/bbs-3.22-bioc/R/bin/R CMD INSTALL branchpointer StartedAt: 2025-07-15 15:33:55 -0400 (Tue, 15 Jul 2025) EndedAt: 2025-07-15 15:34:50 -0400 (Tue, 15 Jul 2025) EllapsedTime: 55.0 seconds RetCode: 0 Status: OK