Package: ceRNAnetsim Version: 1.21.1 Command: /home/biocbuild/bbs-3.22-bioc/R/bin/R CMD INSTALL ceRNAnetsim StartedAt: 2025-10-08 15:20:17 -0400 (Wed, 08 Oct 2025) EndedAt: 2025-10-08 15:20:25 -0400 (Wed, 08 Oct 2025) EllapsedTime: 7.5 seconds RetCode: 0 Status: OK