Package: chimeraviz Version: 1.35.0 Command: /home/biocbuild/bbs-3.22-bioc/R/bin/R CMD INSTALL chimeraviz StartedAt: 2025-10-22 15:48:17 -0400 (Wed, 22 Oct 2025) EndedAt: 2025-10-22 15:49:14 -0400 (Wed, 22 Oct 2025) EllapsedTime: 57.4 seconds RetCode: 0 Status: OK