Package: chipseq Version: 1.59.0 Command: /home/biocbuild/bbs-3.22-bioc/R/bin/R CMD INSTALL chipseq StartedAt: 2025-10-20 15:51:53 -0400 (Mon, 20 Oct 2025) EndedAt: 2025-10-20 15:52:22 -0400 (Mon, 20 Oct 2025) EllapsedTime: 29.4 seconds RetCode: 0 Status: OK