Package: chromPlot Version: 1.37.0 Command: /home/biocbuild/bbs-3.22-bioc/R/bin/R CMD build --keep-empty-dirs --no-resave-data --md5 chromPlot StartedAt: 2025-09-30 16:46:33 -0400 (Tue, 30 Sep 2025) EndedAt: 2025-09-30 16:47:13 -0400 (Tue, 30 Sep 2025) EllapsedTime: 40.0 seconds RetCode: 0 Status: OK PackageFile: chromPlot_1.37.0.tar.gz PackageFileSize: 1.522 MiB