Package: clustSIGNAL Version: 1.3.0 Command: rm -rf clustSIGNAL.buildbin-libdir && mkdir clustSIGNAL.buildbin-libdir && /Users/biocbuild/BBS/utils/build-universal.sh clustSIGNAL_1.3.0.tar.gz /Library/Frameworks/R.framework/Resources/bin/R clustSIGNAL.buildbin-libdir StartedAt: 2025-11-24 01:29:16 -0500 (Mon, 24 Nov 2025) EndedAt: 2025-11-24 01:30:02 -0500 (Mon, 24 Nov 2025) EllapsedTime: 46.3 seconds RetCode: 0 Status: OK PackageFile: clustSIGNAL_1.3.0.tgz PackageFileSize: 4.612 MiB