Package: clustSIGNAL Version: 1.3.0 Command: /Library/Frameworks/R.framework/Resources/bin/R CMD build --keep-empty-dirs --no-resave-data clustSIGNAL StartedAt: 2025-11-23 16:36:35 -0500 (Sun, 23 Nov 2025) EndedAt: 2025-11-23 16:38:22 -0500 (Sun, 23 Nov 2025) EllapsedTime: 106.4 seconds RetCode: 0 Status: OK PackageFile: clustSIGNAL_1.3.0.tar.gz PackageFileSize: 4.58 MiB