Package: clustSIGNAL Version: 1.3.0 Command: /Library/Frameworks/R.framework/Resources/bin/R CMD INSTALL clustSIGNAL StartedAt: 2025-11-23 15:56:28 -0500 (Sun, 23 Nov 2025) EndedAt: 2025-11-23 15:57:10 -0500 (Sun, 23 Nov 2025) EllapsedTime: 42.5 seconds RetCode: 0 Status: OK