Package: clusterSeq Version: 1.35.0 Command: rm -rf clusterSeq.buildbin-libdir && mkdir clusterSeq.buildbin-libdir && /Users/biocbuild/BBS/utils/build-universal.sh clusterSeq_1.35.0.tar.gz /Library/Frameworks/R.framework/Resources/bin/R clusterSeq.buildbin-libdir StartedAt: 2025-11-18 00:27:59 -0500 (Tue, 18 Nov 2025) EndedAt: 2025-11-18 00:28:07 -0500 (Tue, 18 Nov 2025) EllapsedTime: 7.2 seconds RetCode: 0 Status: OK PackageFile: clusterSeq_1.35.0.tgz PackageFileSize: 1.054 MiB