Package: clusterSeq Version: 1.35.0 Command: /Library/Frameworks/R.framework/Resources/bin/R CMD build --keep-empty-dirs --no-resave-data clusterSeq StartedAt: 2025-11-17 16:33:31 -0500 (Mon, 17 Nov 2025) EndedAt: 2025-11-17 16:33:50 -0500 (Mon, 17 Nov 2025) EllapsedTime: 19.2 seconds RetCode: 0 Status: OK PackageFile: clusterSeq_1.35.0.tar.gz PackageFileSize: 1.009 MiB