Package: clusterSeq Version: 1.35.0 Command: /Library/Frameworks/R.framework/Resources/bin/R CMD INSTALL clusterSeq StartedAt: 2025-11-17 15:11:22 -0500 (Mon, 17 Nov 2025) EndedAt: 2025-11-17 15:11:28 -0500 (Mon, 17 Nov 2025) EllapsedTime: 6.5 seconds RetCode: 0 Status: OK