Package: clusterStab Version: 1.81.0 Command: /home/biocbuild/bbs-3.22-bioc/R/bin/R CMD INSTALL clusterStab StartedAt: 2025-10-10 15:25:10 -0400 (Fri, 10 Oct 2025) EndedAt: 2025-10-10 15:25:14 -0400 (Fri, 10 Oct 2025) EllapsedTime: 4.2 seconds RetCode: 0 Status: OK