Package: clustifyr Version: 1.23.0 Command: /home/biocbuild/bbs-3.23-bioc/R/bin/R CMD build --keep-empty-dirs --no-resave-data clustifyr StartedAt: 2025-11-18 17:44:28 -0500 (Tue, 18 Nov 2025) EndedAt: 2025-11-18 17:45:25 -0500 (Tue, 18 Nov 2025) EllapsedTime: 57.0 seconds RetCode: 0 Status: OK PackageFile: clustifyr_1.23.0.tar.gz PackageFileSize: 3.171 MiB