Package: compSPOT Version: 1.7.0 Command: /Library/Frameworks/R.framework/Resources/bin/R CMD INSTALL compSPOT StartedAt: 2025-10-22 15:05:46 -0400 (Wed, 22 Oct 2025) EndedAt: 2025-10-22 15:05:50 -0400 (Wed, 22 Oct 2025) EllapsedTime: 4.3 seconds RetCode: 0 Status: OK