Package: compSPOT Version: 1.9.0 Command: rm -rf compSPOT.buildbin-libdir && mkdir compSPOT.buildbin-libdir && /Users/biocbuild/BBS/utils/build-universal.sh compSPOT_1.9.0.tar.gz /Library/Frameworks/R.framework/Resources/bin/R compSPOT.buildbin-libdir StartedAt: 2025-11-19 01:23:10 -0500 (Wed, 19 Nov 2025) EndedAt: 2025-11-19 01:23:22 -0500 (Wed, 19 Nov 2025) EllapsedTime: 11.4 seconds RetCode: 0 Status: OK PackageFile: compSPOT_1.9.0.tgz PackageFileSize: 466 KiB