Package: compSPOT Version: 1.9.0 Command: /Library/Frameworks/R.framework/Resources/bin/R CMD build --keep-empty-dirs --no-resave-data compSPOT StartedAt: 2025-11-18 16:31:33 -0500 (Tue, 18 Nov 2025) EndedAt: 2025-11-18 16:32:02 -0500 (Tue, 18 Nov 2025) EllapsedTime: 28.7 seconds RetCode: 0 Status: OK PackageFile: compSPOT_1.9.0.tar.gz PackageFileSize: 436.5 KiB