Package: compSPOT Version: 1.9.0 Command: /home/biocbuild/bbs-3.23-bioc/R/bin/R CMD INSTALL compSPOT StartedAt: 2025-11-19 15:13:06 -0500 (Wed, 19 Nov 2025) EndedAt: 2025-11-19 15:13:19 -0500 (Wed, 19 Nov 2025) EllapsedTime: 13.0 seconds RetCode: 0 Status: OK