Package: compcodeR Version: 1.45.0 Command: /home/biocbuild/bbs-3.22-bioc/R/bin/R CMD build --keep-empty-dirs --no-resave-data --md5 compcodeR StartedAt: 2025-07-17 16:42:52 -0400 (Thu, 17 Jul 2025) EndedAt: 2025-07-17 16:43:13 -0400 (Thu, 17 Jul 2025) EllapsedTime: 21.0 seconds RetCode: 0 Status: OK PackageFile: compcodeR_1.45.0.tar.gz PackageFileSize: 4.748 MiB