Package: condiments Version: 1.17.0 Command: /home/biocbuild/bbs-3.22-bioc/R/bin/R CMD build --keep-empty-dirs --no-resave-data --md5 condiments StartedAt: 2025-10-12 16:56:13 -0400 (Sun, 12 Oct 2025) EndedAt: 2025-10-12 17:00:08 -0400 (Sun, 12 Oct 2025) EllapsedTime: 235.2 seconds RetCode: 0 Status: OK PackageFile: condiments_1.17.0.tar.gz PackageFileSize: 2.001 MiB