Package: condiments Version: 1.17.0 Command: /home/biocbuild/bbs-3.22-bioc/R/bin/R CMD INSTALL condiments StartedAt: 2025-10-13 15:59:33 -0400 (Mon, 13 Oct 2025) EndedAt: 2025-10-13 16:00:07 -0400 (Mon, 13 Oct 2025) EllapsedTime: 34.6 seconds RetCode: 0 Status: OK