Package: csaw Version: 1.43.1 Command: /home/biocbuild/bbs-3.22-bioc/R/bin/R CMD build --keep-empty-dirs --no-resave-data --md5 csaw StartedAt: 2025-10-03 17:03:11 -0400 (Fri, 03 Oct 2025) EndedAt: 2025-10-03 17:04:35 -0400 (Fri, 03 Oct 2025) EllapsedTime: 84.1 seconds RetCode: 0 Status: OK PackageFile: csaw_1.43.1.tar.gz PackageFileSize: 392.6 KiB