Package: csaw Version: 1.43.1 Command: /home/biocbuild/bbs-3.22-bioc/R/bin/R CMD INSTALL csaw StartedAt: 2025-10-03 15:16:09 -0400 (Fri, 03 Oct 2025) EndedAt: 2025-10-03 15:17:20 -0400 (Fri, 03 Oct 2025) EllapsedTime: 71.1 seconds RetCode: 0 Status: OK