Package: csdR Version: 1.15.0 Command: /home/biocbuild/bbs-3.22-bioc/R/bin/R CMD INSTALL csdR StartedAt: 2025-10-05 15:43:06 -0400 (Sun, 05 Oct 2025) EndedAt: 2025-10-05 15:43:36 -0400 (Sun, 05 Oct 2025) EllapsedTime: 30.1 seconds RetCode: 0 Status: OK