Package: cytolib Version: 2.21.0 Command: /home/biocbuild/bbs-3.22-bioc/R/bin/R CMD build --keep-empty-dirs --no-resave-data --md5 cytolib StartedAt: 2025-10-23 17:11:46 -0400 (Thu, 23 Oct 2025) EndedAt: 2025-10-23 17:14:18 -0400 (Thu, 23 Oct 2025) EllapsedTime: 152.2 seconds RetCode: 0 Status: OK PackageFile: cytolib_2.21.0.tar.gz PackageFileSize: 5.822 MiB