Package: diffGeneAnalysis Version: 1.91.0 Command: /Library/Frameworks/R.framework/Resources/bin/R CMD INSTALL diffGeneAnalysis StartedAt: 2025-07-24 15:12:36 -0400 (Thu, 24 Jul 2025) EndedAt: 2025-07-24 15:12:39 -0400 (Thu, 24 Jul 2025) EllapsedTime: 3.7 seconds RetCode: 0 Status: OK