Package: diffHic Version: 1.43.0 Command: /home/biocbuild/bbs-3.23-bioc/R/bin/R CMD build --keep-empty-dirs --no-resave-data diffHic StartedAt: 2025-11-05 17:21:24 -0500 (Wed, 05 Nov 2025) EndedAt: 2025-11-05 17:23:03 -0500 (Wed, 05 Nov 2025) EllapsedTime: 98.1 seconds RetCode: 0 Status: OK PackageFile: diffHic_1.43.0.tar.gz PackageFileSize: 1.517 MiB