Package: diffHic Version: 1.43.0 Command: /home/biocbuild/bbs-3.23-bioc/R/bin/R CMD INSTALL diffHic StartedAt: 2025-11-05 15:39:52 -0500 (Wed, 05 Nov 2025) EndedAt: 2025-11-05 15:41:26 -0500 (Wed, 05 Nov 2025) EllapsedTime: 93.9 seconds RetCode: 0 Status: OK