Package: diffUTR Version: 1.19.0 Command: /home/biocbuild/bbs-3.23-bioc/R/bin/R CMD build --keep-empty-dirs --no-resave-data diffUTR StartedAt: 2025-11-05 17:21:44 -0500 (Wed, 05 Nov 2025) EndedAt: 2025-11-05 17:23:01 -0500 (Wed, 05 Nov 2025) EllapsedTime: 76.1 seconds RetCode: 0 Status: OK PackageFile: diffUTR_1.19.0.tar.gz PackageFileSize: 1.372 MiB